BEGIN:VCALENDAR
VERSION:2.0
PRODID:-//Northeast Cover Crops Council - ECPv6.15.20//NONSGML v1.0//EN
CALSCALE:GREGORIAN
METHOD:PUBLISH
X-ORIGINAL-URL:https://northeastcovercrops.com
X-WR-CALDESC:Events for Northeast Cover Crops Council
REFRESH-INTERVAL;VALUE=DURATION:PT1H
X-Robots-Tag:noindex
X-PUBLISHED-TTL:PT1H
BEGIN:VTIMEZONE
TZID:America/New_York
BEGIN:DAYLIGHT
TZOFFSETFROM:-0500
TZOFFSETTO:-0400
TZNAME:EDT
DTSTART:20240310T070000
END:DAYLIGHT
BEGIN:STANDARD
TZOFFSETFROM:-0400
TZOFFSETTO:-0500
TZNAME:EST
DTSTART:20241103T060000
END:STANDARD
BEGIN:DAYLIGHT
TZOFFSETFROM:-0500
TZOFFSETTO:-0400
TZNAME:EDT
DTSTART:20250309T070000
END:DAYLIGHT
BEGIN:STANDARD
TZOFFSETFROM:-0400
TZOFFSETTO:-0500
TZNAME:EST
DTSTART:20251102T060000
END:STANDARD
BEGIN:DAYLIGHT
TZOFFSETFROM:-0500
TZOFFSETTO:-0400
TZNAME:EDT
DTSTART:20260308T070000
END:DAYLIGHT
BEGIN:STANDARD
TZOFFSETFROM:-0400
TZOFFSETTO:-0500
TZNAME:EST
DTSTART:20261101T060000
END:STANDARD
END:VTIMEZONE
BEGIN:VEVENT
DTSTART;TZID=America/New_York:20251007T160000
DTEND;TZID=America/New_York:20251007T180000
DTSTAMP:20260424T082654
CREATED:20250910T184321Z
LAST-MODIFIED:20250910T184426Z
UID:4180-1759852800-1759860000@northeastcovercrops.com
SUMMARY:Soil Health and Cover Crop Field Day – Kerhonkson\, NY
DESCRIPTION:As part of the 2025 New York Soil Health and Climate Resiliency Field Days\, join organizers\, Cornell Cooperative Extension’s Harvest New York\, and Scenic Hudson for a walk-through of different cover crop species and various mixtures. \n\n\n\nThey’ll explore the benefits of different cover crop species\, how cover crops impact soil health\, weed suppression\, and nutrient dynamics. They’ll also focus on some exciting work to breed better cover crop cultivars. \n\n\n\nFarm-fresh treats and cider will be served. \n\n\n\nOpen to any interested farmers. \n\n\n\nTrying cover crops for the first time? Exploring new varieties? They’d love to have you. \n\n\n\nLocation:  \n\n\n\nKelder’s Farm \n\n\n\n5755 U.S. 209 Kerhonkson\, NY 12446
URL:https://northeastcovercrops.com/event/soil-health-and-cover-crop-field-day-kerhonkson-ny/
END:VEVENT
END:VCALENDAR