BEGIN:VCALENDAR
VERSION:2.0
PRODID:-//Northeast Cover Crops Council - ECPv6.15.20//NONSGML v1.0//EN
CALSCALE:GREGORIAN
METHOD:PUBLISH
X-ORIGINAL-URL:https://northeastcovercrops.com
X-WR-CALDESC:Events for Northeast Cover Crops Council
REFRESH-INTERVAL;VALUE=DURATION:PT1H
X-Robots-Tag:noindex
X-PUBLISHED-TTL:PT1H
BEGIN:VTIMEZONE
TZID:America/New_York
BEGIN:DAYLIGHT
TZOFFSETFROM:-0500
TZOFFSETTO:-0400
TZNAME:EDT
DTSTART:20230312T070000
END:DAYLIGHT
BEGIN:STANDARD
TZOFFSETFROM:-0400
TZOFFSETTO:-0500
TZNAME:EST
DTSTART:20231105T060000
END:STANDARD
BEGIN:DAYLIGHT
TZOFFSETFROM:-0500
TZOFFSETTO:-0400
TZNAME:EDT
DTSTART:20240310T070000
END:DAYLIGHT
BEGIN:STANDARD
TZOFFSETFROM:-0400
TZOFFSETTO:-0500
TZNAME:EST
DTSTART:20241103T060000
END:STANDARD
BEGIN:DAYLIGHT
TZOFFSETFROM:-0500
TZOFFSETTO:-0400
TZNAME:EDT
DTSTART:20250309T070000
END:DAYLIGHT
BEGIN:STANDARD
TZOFFSETFROM:-0400
TZOFFSETTO:-0500
TZNAME:EST
DTSTART:20251102T060000
END:STANDARD
END:VTIMEZONE
BEGIN:VEVENT
DTSTART;TZID=America/New_York:20240109T000000
DTEND;TZID=America/New_York:20240111T235959
DTSTAMP:20260423T114144
CREATED:20240108T181227Z
LAST-MODIFIED:20240108T182158Z
UID:3860-1704758400-1705017599@northeastcovercrops.com
SUMMARY:Maine Agricultural Trades Show
DESCRIPTION:Attend this three day event at the Augusta Civic Center in Augusta\, Maine to get professional expertise\, learn about technologies\, and gather information on the agriculture industry. No fee to attend the show.
URL:https://northeastcovercrops.com/event/maine-agricultural-trades-show/
END:VEVENT
BEGIN:VEVENT
DTSTART;TZID=America/New_York:20240120T000000
DTEND;TZID=America/New_York:20240121T235959
DTSTAMP:20260423T114144
CREATED:20240108T182938Z
LAST-MODIFIED:20240108T183029Z
UID:3875-1705708800-1705881599@northeastcovercrops.com
SUMMARY:NOFA-NY Winter Conference
DESCRIPTION:NOFA-NY’s Annual Winter Conference will be held at the Marriott Syracuse Downtown in Syracuse\, New York. Registration fee required. When you register\, you will receive an Access Code to attend the NOFA Virtual Symposium in March – for free!
URL:https://northeastcovercrops.com/event/nofa-ny-winter-conference/
END:VEVENT
BEGIN:VEVENT
DTSTART;TZID=America/New_York:20240130T000000
DTEND;TZID=America/New_York:20240201T235959
DTSTAMP:20260423T114144
CREATED:20240109T140847Z
LAST-MODIFIED:20240109T140850Z
UID:3881-1706572800-1706831999@northeastcovercrops.com
SUMMARY:Mid-Atlantic Fruit and Vegetable Convention
DESCRIPTION:The 2024 Mid-Atlantic Convention at the Hershey Lodge in Lancaster\, Pennsylvania promises to be another exceptional grower gathering. They will be joined by the North American Strawberry Growers Association! Registration fee required.
URL:https://northeastcovercrops.com/event/mid-atlantic-fruit-and-vegetable-convention/
END:VEVENT
END:VCALENDAR