BEGIN:VCALENDAR
VERSION:2.0
PRODID:-//Northeast Cover Crops Council - ECPv6.15.20//NONSGML v1.0//EN
CALSCALE:GREGORIAN
METHOD:PUBLISH
X-ORIGINAL-URL:https://northeastcovercrops.com
X-WR-CALDESC:Events for Northeast Cover Crops Council
REFRESH-INTERVAL;VALUE=DURATION:PT1H
X-Robots-Tag:noindex
X-PUBLISHED-TTL:PT1H
BEGIN:VTIMEZONE
TZID:America/New_York
BEGIN:DAYLIGHT
TZOFFSETFROM:-0500
TZOFFSETTO:-0400
TZNAME:EDT
DTSTART:20230312T070000
END:DAYLIGHT
BEGIN:STANDARD
TZOFFSETFROM:-0400
TZOFFSETTO:-0500
TZNAME:EST
DTSTART:20231105T060000
END:STANDARD
BEGIN:DAYLIGHT
TZOFFSETFROM:-0500
TZOFFSETTO:-0400
TZNAME:EDT
DTSTART:20240310T070000
END:DAYLIGHT
BEGIN:STANDARD
TZOFFSETFROM:-0400
TZOFFSETTO:-0500
TZNAME:EST
DTSTART:20241103T060000
END:STANDARD
BEGIN:DAYLIGHT
TZOFFSETFROM:-0500
TZOFFSETTO:-0400
TZNAME:EDT
DTSTART:20250309T070000
END:DAYLIGHT
BEGIN:STANDARD
TZOFFSETFROM:-0400
TZOFFSETTO:-0500
TZNAME:EST
DTSTART:20251102T060000
END:STANDARD
END:VTIMEZONE
BEGIN:VEVENT
DTSTART;TZID=America/New_York:20240130T000000
DTEND;TZID=America/New_York:20240201T235959
DTSTAMP:20260423T172010
CREATED:20240109T140847Z
LAST-MODIFIED:20240109T140850Z
UID:3881-1706572800-1706831999@northeastcovercrops.com
SUMMARY:Mid-Atlantic Fruit and Vegetable Convention
DESCRIPTION:The 2024 Mid-Atlantic Convention at the Hershey Lodge in Lancaster\, Pennsylvania promises to be another exceptional grower gathering. They will be joined by the North American Strawberry Growers Association! Registration fee required.
URL:https://northeastcovercrops.com/event/mid-atlantic-fruit-and-vegetable-convention/
END:VEVENT
BEGIN:VEVENT
DTSTART;TZID=America/New_York:20240206T090000
DTEND;TZID=America/New_York:20240207T160000
DTSTAMP:20260423T172010
CREATED:20240105T162206Z
LAST-MODIFIED:20240108T175748Z
UID:3806-1707210000-1707321600@northeastcovercrops.com
SUMMARY:2024 NECCC Annual Meeting
DESCRIPTION:Please join us for the joint Northeast Cover Crops Council Annual Meeting and Delmarva Soil Summit \n\n\n\nFeb. 6 & 7\, 2024 at the Wicomico Youth & Civic Center in Salisbury\, MD \n\n\n\nRegistration\n\n\n\nThanks to our generous sponsors\, registration is half-price for farmers and students. Prices go up on Jan. 12\, 2024\, so register today! \n\n\n\n\nRegister\n\n\n\n\n\n\n\n\nPoster Submission is Open until Jan. 31\, 2024\n\n\n\nThe conference will feature both a graduate student poster competition (cash prizes) and a People’s Choice competition (gift basket prize).  \n\n\n\n\nSubmit a Poster\n\n\n\n\n\n\n\n\nAgenda\n\n\n\n The agenda features keynote speakers Russell Hedrick and Heather Darby.  \n\n\n\n\nDownloadable PDF Agenda\n\n\n\n\n\n\n\n\n\n\n\n\n\n\n\n\n\n\nTravel and Lodging\n\n\n\nAirport option distance from meeting venue: SBY (10 minutes)\, BWI (2 hours 8 minutes)\, DCA (2 hours 40 minutes)\, and PHL (2 hours 40 minutes). You might be able to fly into Salisbury Regional Airport (SBY) but your most likely best options will be on the Western Shore of Maryland/Virginia at BWI\, PHL\, or DCA. You will definitely need a car to get around near the meeting venue. \n\n\n\nWe have not reserved a room block at a hotel nor do we have an official hotel but we are suggesting that people stay at the Hampton Inn Salisbury.  \n\n\n\n\nBook Hampton Inn\n\n\n\n\n\n\n\n\nThe Courtyard Salisbury by Marriott is another nearby option. \n\n\n\n\nBook Marriott Courtyard\n\n\n\n\n\n\n\n\nMany Thanks to our 2024 Sponsors!\n\n\n\n\nSponsors
URL:https://northeastcovercrops.com/event/2024-neccc-annual-conference-2/
END:VEVENT
BEGIN:VEVENT
DTSTART;TZID=America/New_York:20240208T000000
DTEND;TZID=America/New_York:20240210T235959
DTSTAMP:20260423T172010
CREATED:20240108T184218Z
LAST-MODIFIED:20240108T184221Z
UID:3879-1707350400-1707609599@northeastcovercrops.com
SUMMARY:PASA 2024 Sustainable Agriculture Conference
DESCRIPTION:The 2024 Sustainable Agriculture Conference will be held at the Lancaster County Convention Center\, a historic hotel and convention center located in downtown Lancaster\, Pennsylvania. Sliding scale registration fee required.
URL:https://northeastcovercrops.com/event/pasa-2024-sustainable-agriculture-conference/
END:VEVENT
BEGIN:VEVENT
DTSTART;TZID=America/New_York:20240213T100000
DTEND;TZID=America/New_York:20240213T140000
DTSTAMP:20260423T172010
CREATED:20240115T142632Z
LAST-MODIFIED:20240115T145010Z
UID:3890-1707818400-1707832800@northeastcovercrops.com
SUMMARY:NYCO Field Crops and Dairy Farmer to Farmer Meetings
DESCRIPTION:This annual NYCO event in Geneva\, NY brings together local farmers to make connections and build relationships that help them succeed. An informal potluck lunch is the centerpiece of the event as well as the lively discussions that follow. Participants are encouraged to bring a dish to pass for lunch. To kick start discussions\, the group hosts several presentations from farmers\, researchers\, and industry leaders on topics such as interseeding\, new no-till methods\, and streamlining economics of dairy operations. This event focuses on field crops. The meetings are free to attend. All are welcome. Preregistration to receive updates on possible weather-related changes can be made at https://tinyurl.com/NYCO2024 or by leaving a message at 315-787-2432.
URL:https://northeastcovercrops.com/event/nyco-field-crops-and-dairy-farmer-to-farmer-meetings/
END:VEVENT
END:VCALENDAR