BEGIN:VCALENDAR
VERSION:2.0
PRODID:-//Northeast Cover Crops Council - ECPv6.15.20//NONSGML v1.0//EN
CALSCALE:GREGORIAN
METHOD:PUBLISH
X-WR-CALNAME:Northeast Cover Crops Council
X-ORIGINAL-URL:https://northeastcovercrops.com
X-WR-CALDESC:Events for Northeast Cover Crops Council
REFRESH-INTERVAL;VALUE=DURATION:PT1H
X-Robots-Tag:noindex
X-PUBLISHED-TTL:PT1H
BEGIN:VTIMEZONE
TZID:America/New_York
BEGIN:DAYLIGHT
TZOFFSETFROM:-0500
TZOFFSETTO:-0400
TZNAME:EDT
DTSTART:20250309T070000
END:DAYLIGHT
BEGIN:STANDARD
TZOFFSETFROM:-0400
TZOFFSETTO:-0500
TZNAME:EST
DTSTART:20251102T060000
END:STANDARD
BEGIN:DAYLIGHT
TZOFFSETFROM:-0500
TZOFFSETTO:-0400
TZNAME:EDT
DTSTART:20260308T070000
END:DAYLIGHT
BEGIN:STANDARD
TZOFFSETFROM:-0400
TZOFFSETTO:-0500
TZNAME:EST
DTSTART:20261101T060000
END:STANDARD
BEGIN:DAYLIGHT
TZOFFSETFROM:-0500
TZOFFSETTO:-0400
TZNAME:EDT
DTSTART:20270314T070000
END:DAYLIGHT
BEGIN:STANDARD
TZOFFSETFROM:-0400
TZOFFSETTO:-0500
TZNAME:EST
DTSTART:20271107T060000
END:STANDARD
END:VTIMEZONE
BEGIN:VEVENT
DTSTART;TZID=America/New_York:20260219T080000
DTEND;TZID=America/New_York:20260219T180000
DTSTAMP:20260421T095359
CREATED:20250911T160010Z
LAST-MODIFIED:20251209T195150Z
UID:4181-1771488000-1771524000@northeastcovercrops.com
SUMMARY:Northeast Cover Crops Council Conference
DESCRIPTION:Please join us for the 2026 Joint No-Till & Cover Crop Conference hosted jointly by UVM Extension and the Northeast Cover Crops Council. \n\n\n\nWhat: 2026 No-Till & Cover Crop ConferenceWhen: Thursday\, February 19\, 2026Where: DoubleTree by Hilton in South Burlington\, VT
URL:https://northeastcovercrops.com/event/northeast-cover-crops-council-conference/
END:VEVENT
END:VCALENDAR